BEGIN:VCALENDAR
VERSION:2.0
PRODID:-//wp-events-plugin.com//7.0.5//EN
TZID:Europe/Vienna
X-WR-TIMEZONE:Europe/Vienna
BEGIN:VEVENT
UID:10@jarofilzka.at
DTSTART;TZID=Europe/Vienna;VALUE=DATE:20261023
DTEND;TZID=Europe/Vienna;VALUE=DATE:20261024
DTSTAMP:20260419T193427Z
URL:https://www.jarofilzka.at/events/gebucht-fuer-private-veranstaltung/
SUMMARY:Gebucht für private Veranstaltung
DESCRIPTION:
END:VEVENT
BEGIN:VTIMEZONE
TZID:Europe/Vienna
X-LIC-LOCATION:Europe/Vienna
BEGIN:DAYLIGHT
DTSTART:20260329T030000
TZOFFSETFROM:+0100
TZOFFSETTO:+0200
TZNAME:CEST
END:DAYLIGHT
END:VTIMEZONE
END:VCALENDAR