BEGIN:VCALENDAR
VERSION:2.0
PRODID:-//wp-events-plugin.com//7.0.5//EN
TZID:Europe/Vienna
X-WR-TIMEZONE:Europe/Vienna
BEGIN:VEVENT
UID:11@jarofilzka.at
DTSTART;TZID=Europe/Vienna;VALUE=DATE:20261205
DTEND;TZID=Europe/Vienna;VALUE=DATE:20261206
DTSTAMP:20260419T193644Z
URL:https://www.jarofilzka.at/events/gebucht-fuer-private-veranstaltung-2/
SUMMARY:Gebucht für private Veranstaltung
DESCRIPTION:
END:VEVENT
BEGIN:VTIMEZONE
TZID:Europe/Vienna
X-LIC-LOCATION:Europe/Vienna
BEGIN:STANDARD
DTSTART:20261025T020000
TZOFFSETFROM:+0200
TZOFFSETTO:+0100
TZNAME:CET
END:STANDARD
END:VTIMEZONE
END:VCALENDAR